BEGIN:VCALENDAR
VERSION:2.0
PRODID:-//eventon.com NONSGML v1.0//EN
CALSCALE:GREGORIAN
METHOD:PUBLISH
BEGIN:VEVENT
UID:69e66d60ad5d8
DTSTAMP:20260420T181600Z
DTSTART:20210511T220000Z
DTEND:20210512T020000Z
LOCATION:Jamin Leather 1222 Port Dr\,  Myrtle Beach\,  SC
SUMMARY:Poker Run - Benefit w/Nam Knights
DESCRIPTION:May 11th &#8211; Poker Run &#8211; Benefit w/Nam Knights Nam Kn
 ights encourages you to join them on their Poker Run and Leather Auction on
  Tuesday May 11th 2021 during Myrtle Beach Spring Rally. Registration 11-12
  noon at Jamin Leather 1222 Port Dr (Hwy 17 bypass) Myrtle Beach. KSU Noon 
 only[..]\nhttps://jaminleather.com/events-directory/poker-run-benefit-w-nam
 -knights/
URL:https://jaminleather.com/events-directory/poker-run-benefit-w-nam-knights/
END:VEVENT
END:VCALENDAR