BEGIN:VCALENDAR
VERSION:2.0
PRODID:-//eventon.com NONSGML v1.0//EN
CALSCALE:GREGORIAN
METHOD:PUBLISH
BEGIN:VEVENT
UID:69e9b0eda1030
DTSTAMP:20260423T054101Z
DTSTART:20201003T130000Z
DTEND:20201003T150000Z
LOCATION:Jamin Leather 1222 Port Dr\,  Myrtle Beach\,  SC
SUMMARY:Journey Church celebration service - Bike Week At Jamin Leather
DESCRIPTION:Stop by Jamin Leather for a service provided by Journey Church 
 Sat Oct 3rd at 2pm\nhttps://jaminleather.com/events-directory/journey-churc
 h-celebration-service/
URL:https://jaminleather.com/events-directory/journey-church-celebration-service/
END:VEVENT
END:VCALENDAR