BEGIN:VCALENDAR
VERSION:2.0
PRODID:-//eventon.com NONSGML v1.0//EN
CALSCALE:GREGORIAN
METHOD:PUBLISH
BEGIN:VEVENT
UID:69e71a3794d0d
DTSTAMP:20260421T063327Z
DTSTART:19700101
DTEND:19700102
LOCATION:Jamin Leather 1222 Port Dr\,  Myrtle Beach\,  SC
SUMMARY:TRAILER PARKING - Myrtle Beach Bike Week
DESCRIPTION:Myrtle Beach Trailer Parking for Bike Week at Jamin Leather®!
  Trailer Parking at Jamin Leather® IMPORTANT CHANGE: No trailer parking wi
 ll be permitted without registration inside Jamin Leather at 1222 Port Dr M
 yrtle Beach. MAXIMUM SIZE 16&#8242; UTILITY ONLY. No room for additional ve
 hicles. Register in advance during normal business hours[..]\nhttps://jamin
 leather.com/events-directory/trailer-parking-myrtle-beach-copy/
URL:https://jaminleather.com/events-directory/trailer-parking-myrtle-beach-copy/
END:VEVENT
END:VCALENDAR