BEGIN:VCALENDAR
VERSION:2.0
PRODID:-//eventon.com NONSGML v1.0//EN
CALSCALE:GREGORIAN
METHOD:PUBLISH
BEGIN:VEVENT
UID:69e91249c6d6c
DTSTAMP:20260422T182409Z
DTSTART:20220205T200000Z
DTEND:20220207T040000Z
LOCATION:Myrtle Beach Convention Center 2101 N Oak St\,  Myrtle Beach\,  South Carolina 29577
SUMMARY:2022 Myrtle Beach Gun Show
DESCRIPTION:The Myrtle Beach Gun &amp; Knife Show in Myrtle Beach\,  SC. Th
 is Myrtle Beach gun show is held at Myrtle Beach Convention Center and host
 ed by Mike Kent and Associates. All federal\,  state and local firearm ordi
 nances and laws must be obeyed. A fine selection of guns\,  ammo\,  and kni
 ves.[..]\nhttps://jaminleather.com/events-directory/2022-myrtle-beach-gun-s
 how/
URL:https://jaminleather.com/events-directory/2022-myrtle-beach-gun-show/
END:VEVENT
END:VCALENDAR