BEGIN:VCALENDAR
VERSION:2.0
PRODID:-//eventon.com NONSGML v1.0//EN
CALSCALE:GREGORIAN
METHOD:PUBLISH
BEGIN:VEVENT
UID:69e732341ecda
DTSTAMP:20260421T081548Z
DTSTART:20220430T190000Z
DTEND:20220501T042000Z
LOCATION:Grand Park at Market Common 1150 Farrow Parkway Myrtle Beach\,  SC  29577
SUMMARY:14th Annual Dragon Boat Festival
DESCRIPTION:The Dragon Boat Festival is Ground Zero&#8217;s premier annual 
 fundraiser. Teams of 20 paddlers and one drummer compete\,  racing for the 
 fastest time in their division. Participants and teams can win awards and p
 rizes for their race results and fundraising efforts. The event is free to 
 spectators who can enjoy[..]\nhttps://jaminleather.com/events-directory/14t
 h-annual-dragon-boat-festival/
URL:https://jaminleather.com/events-directory/14th-annual-dragon-boat-festival/
END:VEVENT
END:VCALENDAR