BEGIN:VCALENDAR
VERSION:2.0
PRODID:-//eventon.com NONSGML v1.0//EN
CALSCALE:GREGORIAN
METHOD:PUBLISH
BEGIN:VEVENT
UID:69e93d4c331ac
DTSTAMP:20260422T212740Z
DTSTART:20220518T190000Z
DTEND:20220519T050400Z
LOCATION:The Golden Egg 415 Hwy 17 North\,  Surfside Beach\,  SC 29575
SUMMARY:Crude's 2022 Veteran's Ride
DESCRIPTION:WED MAY 18TH 2022 FREE RIDE 8am KSU at 10:30 am Golden Egg In S
 urfside Beach This is a Rain or Shine Event! All People\,  Bikes &amp; cars
  are welcome! FREE RIDE no registration fees or release forms to sign. Meet
  at the Golden Egg In Surfside Beach starting at[..]\nhttps://jaminleather.
 com/events-directory/crudes-2022-veterans-ride/
URL:https://jaminleather.com/events-directory/crudes-2022-veterans-ride/
END:VEVENT
END:VCALENDAR