BEGIN:VCALENDAR
VERSION:2.0
PRODID:-//eventon.com NONSGML v1.0//EN
CALSCALE:GREGORIAN
METHOD:PUBLISH
BEGIN:VEVENT
UID:69e8641658d35
DTSTAMP:20260422T060054Z
DTSTART:20220522T200000Z
DTEND:20220523T000000Z
LOCATION:Jamin Leather 1222 Port Dr\,  Myrtle Beach\,  SC
SUMMARY:Bike Week Sunday Worship - Full Throttle Biker Church
DESCRIPTION:Stop by Jamin Leather and join Full Throttle Biker church and b
 and for a bike week Sunday worship and Bike Blessing. At Full Throttle Bike
 r Church we believe there is a place for everyone\,  even if you don’t ri
 de a bike. Anyone is welcome to come join the service and[..]\nhttps://jami
 nleather.com/events-directory/bike-week-sunday-worship-full-throttle-biker-
 church/
URL:https://jaminleather.com/events-directory/bike-week-sunday-worship-full-throttle-biker-church/
END:VEVENT
END:VCALENDAR