BEGIN:VCALENDAR
VERSION:2.0
PRODID:-//eventon.com NONSGML v1.0//EN
CALSCALE:GREGORIAN
METHOD:PUBLISH
BEGIN:VEVENT
UID:69e749a9bae3c
DTSTAMP:20260421T095553Z
DTSTART:20220527T210000Z
DTEND:20220530T060000Z
LOCATION:COUNTRY INN SUITES RADISSON MURRELLS INLET\,  SC 1303-A\,  TADLOCK DR\,  MURRELLS INLET\,  SC 29576
SUMMARY:3 WHEEL SHOWDOWN 2022 RALLY TOUR
DESCRIPTION:3 Wheel Showdown Lights and Sound Rally. Over $5\, 000 in Cash 
 Giveaways. May 27\,  10:00 AM – May 29\,  7:00 PM Myrtle Beach\,  3534 US
 -17 Bus. Myrtle Beach\,  SC\,  USA HOST HOTEL: COUNTRY INN SUITES BY RADISS
 ON MURRELLS INLET\,  SC 1303-A\,  TADLOCK DR\,  MURRELLS INLET\,  SC 29576 
 (843)-357-0100 CODE: Slingshot[..]\nhttps://jaminleather.com/events-directo
 ry/3-wheel-showdown-2022-rally-tour/
URL:https://jaminleather.com/events-directory/3-wheel-showdown-2022-rally-tour/
END:VEVENT
END:VCALENDAR