BEGIN:VCALENDAR
VERSION:2.0
PRODID:-//eventon.com NONSGML v1.0//EN
CALSCALE:GREGORIAN
METHOD:PUBLISH
BEGIN:VEVENT
UID:69e6d00d3906e
DTSTAMP:20260421T011701Z
DTSTART:20221001T230000Z
DTEND:20221001T040000Z
LOCATION:Fat Boys Smoke Pit and Oyster Bar 3415 US-17 BUS\,  Murrells Inlet\,  SC 29576
SUMMARY:Bike Week at Fat Boys
DESCRIPTION:SoCo will be rockin&#8217; Bike Week at Fat Boys Smoke Pit!!! L
 ets blow the Inlet up!!!!! &nbsp; Post Courtesy of MB Event Guide.\nhttps:/
 /jaminleather.com/events-directory/bike-week-at-fat-boys/
URL:https://jaminleather.com/events-directory/bike-week-at-fat-boys/
END:VEVENT
END:VCALENDAR