BEGIN:VCALENDAR
VERSION:2.0
PRODID:-//eventon.com NONSGML v1.0//EN
CALSCALE:GREGORIAN
METHOD:PUBLISH
BEGIN:VEVENT
UID:69e6cb1a54520
DTSTAMP:20260421T005554Z
DTSTART:20221231T230000Z
DTEND:20221231T050000Z
LOCATION:Duck Dive Bar and Grill 406 Sea Mountain Highway\,  North Myrtle Beach\,  SC
SUMMARY:New Years Eve w/ Root 65
DESCRIPTION:Come ring in the New Year with the Duck Dive Family! Music from
  some of the Root 65 band members starts at 8:30! We will provide some snac
 ks apps! Great drink specials all night! Champagne toast at midnight! &nbsp
 ; Post Courtesy of MB Event Guide. Contact the Event Host for[..]\nhttps://
 jaminleather.com/events-directory/new-years-eve-w-root-65/
URL:https://jaminleather.com/events-directory/new-years-eve-w-root-65/
END:VEVENT
END:VCALENDAR