BEGIN:VCALENDAR
VERSION:2.0
PRODID:-//eventon.com NONSGML v1.0//EN
CALSCALE:GREGORIAN
METHOD:PUBLISH
BEGIN:VEVENT
UID:69e662236b7fa
DTSTAMP:20260420T172803Z
DTSTART:20191027T120000Z
DTEND:20191027T180000Z
LOCATION:
SUMMARY:CUE's 25th Anniversary Poker Run
DESCRIPTION:Sunday October 27th 2019 from Noon to 6 PM. Noon Registration 1
  PM KSU 3 PM back at The Beaver Bar Live Band&#8230; Food&#8230; Raffle pri
 zes&#8230; 50/50 $20 per Rider &#8230; $5 per Passenger All proceeds go to 
 CUE center.. A 501 C3 Organization. Serving Missing Persons Nationwide. For
  more[..]\nhttps://jaminleather.com/events-directory/cues-25th-anniversary-
 poker-run/
URL:https://jaminleather.com/events-directory/cues-25th-anniversary-poker-run/
END:VEVENT
END:VCALENDAR