BEGIN:VCALENDAR
VERSION:2.0
PRODID:-//eventon.com NONSGML v1.0//EN
CALSCALE:GREGORIAN
METHOD:PUBLISH
BEGIN:VEVENT
UID:69e6ed6474e4a
DTSTAMP:20260421T032212Z
DTSTART:20230401T150000Z
DTEND:20230401T200000Z
LOCATION:Harley Shop at the Beach 4002 US-17\,  North Myrtle Beach\,  SC 29582
SUMMARY:RIDE FOR AUTISM
DESCRIPTION:5TH ANNUAL RIDE FOR AUTISM Proceeds will benefit our SOS Care P
 roject Lifesaver program in partnership with Horry County\,  City of Myrtle
  Beach and North Myrtle Beach! Officially escorted ride from Horry County S
 heriffs Department &amp; Georgetown County! Registration 10-12 at Harley Sh
 op at the Beach. Kickstands up at 12![..]\nhttps://jaminleather.com/events-
 directory/ride-for-autism/
URL:https://jaminleather.com/events-directory/ride-for-autism/
END:VEVENT
END:VCALENDAR