BEGIN:VCALENDAR
VERSION:2.0
PRODID:-//eventon.com NONSGML v1.0//EN
CALSCALE:GREGORIAN
METHOD:PUBLISH
BEGIN:VEVENT
UID:69e8c655c4590
DTSTAMP:20260422T130005Z
DTSTART:20230804
DTEND:20230805
LOCATION:City of Sturgis 1040 Harley-Davidson Way\,  Sturgis\,  SD\,  57785
SUMMARY:Sturgis Rally 2023
DESCRIPTION:Celebrating 83 years of the world&#8217;s largest biker party o
 n the planet! Check out our list of rally Concerts and Events\,  or take
  a look at some of the Sturgis Webcams or the ride maps throughout the 
 Black Hills. And if you need a place to stay for the rally\,  look no fu
 rther! &nbsp; Post Courtesy of MB Event Guide.\nhttps://jaminleather.com/ev
 ents-directory/sturgis-rally-2023/
URL:https://jaminleather.com/events-directory/sturgis-rally-2023/
END:VEVENT
END:VCALENDAR