BEGIN:VCALENDAR
VERSION:2.0
PRODID:-//eventon.com NONSGML v1.0//EN
CALSCALE:GREGORIAN
METHOD:PUBLISH
BEGIN:VEVENT
UID:69e724bd80ec6
DTSTAMP:20260421T071821Z
DTSTART:20231014T130000Z
DTEND:20231014T190000Z
LOCATION:Belin Memorial UMC 4182 Highway 17 Business Murrells Inlet\,  SC 29576
SUMMARY:2023 Fall Harvest Festival & BBQ
DESCRIPTION:This year’s pit masters are Russ Graham and Blaine Harvey of 
 LazyMoon BBQ in Pawleys Island. Get a plate of bar-b-que with two sides and
  a roll or a pint of bar-b-que for $15. In addition to great bar-b-que\,  t
 here will be craft vendors with a variety of unique handmade[..]\nhttps://j
 aminleather.com/events-directory/2023-fall-harvest-festival-bbq/
URL:https://jaminleather.com/events-directory/2023-fall-harvest-festival-bbq/
END:VEVENT
END:VCALENDAR