BEGIN:VCALENDAR
VERSION:2.0
PRODID:-//eventon.com NONSGML v1.0//EN
CALSCALE:GREGORIAN
METHOD:PUBLISH
BEGIN:VEVENT
UID:69e62fd30c3d3
DTSTAMP:20260420T135323Z
DTSTART:20240516T210000Z
DTEND:20240517T010000Z
LOCATION:Dirty Myrtle Wing Company 2297 south kings highway\,  Myrtle Beach\,  SC
SUMMARY:MB Bike Week Victory Motorcycle Meet Up
DESCRIPTION:All Victory motorcycles invited and welcome! At Dirty Myrtle Wi
 ng Company May 16th\,  5-9pm! Location: 2297 south kings highway\,  Myrtle 
 Beach\,  SC\nhttps://jaminleather.com/events-directory/mb-bike-week-victory
 -motorcycle-meet-up/
URL:https://jaminleather.com/events-directory/mb-bike-week-victory-motorcycle-meet-up/
END:VEVENT
END:VCALENDAR