BEGIN:VCALENDAR
VERSION:2.0
PRODID:-//eventon.com NONSGML v1.0//EN
CALSCALE:GREGORIAN
METHOD:PUBLISH
BEGIN:VEVENT
UID:69e6b9a74e11d
DTSTAMP:20260420T234127Z
DTSTART:20241005T160000Z
DTEND:20241005T183000Z
LOCATION:CALLIBAKER'S FIREHOUSE BAR &amp; GRILL 910 LAKE ARROWHEAD RD
SUMMARY:Cornhole Tournament
DESCRIPTION:First annual Warthogs Motorcycle Club Cornhole tournament to be
 nefit the Horry County Police Department Shop With A Cop Program! Registrat
 ion at 12pm\,  Bags fly at 1pm. $50 a team.\nhttps://jaminleather.com/event
 s-directory/cornhole-tournament/
URL:https://jaminleather.com/events-directory/cornhole-tournament/
END:VEVENT
END:VCALENDAR