BEGIN:VCALENDAR
VERSION:2.0
PRODID:-//eventon.com NONSGML v1.0//EN
CALSCALE:GREGORIAN
METHOD:PUBLISH
BEGIN:VEVENT
UID:69e7001d53af9
DTSTAMP:20260421T044205Z
DTSTART:20241004T010000Z
DTEND:20241004T020000Z
LOCATION:Suck Bang Blow 3393 US-17 BUS\,  Murrells Inlet\,  SC 29576
SUMMARY:Live Music - Cowboy Kid Rock
DESCRIPTION:Cowboy Kid Rock will hit the Stage on Thursday\,  October 3rd a
 t 9pm!\nhttps://jaminleather.com/events-directory/live-music-cowboy-kid-roc
 k/
URL:https://jaminleather.com/events-directory/live-music-cowboy-kid-rock/
END:VEVENT
END:VCALENDAR