BEGIN:VCALENDAR
VERSION:2.0
PRODID:-//eventon.com NONSGML v1.0//EN
CALSCALE:GREGORIAN
METHOD:PUBLISH
BEGIN:VEVENT
UID:69e6a6113c65f
DTSTAMP:20260420T221753Z
DTSTART:20191130T170000Z
DTEND:20191130T190000Z
LOCATION:1504 Bessent Ave\,  Little River\,  SC 29566 1504 Bessent Ave\,  Little River\,  SC 29566
SUMMARY:Intracoastal Christmas Regatta
DESCRIPTION:The Intracoastal Christmas Regatta is a traditional holiday kic
 k-off on the waterway in Little River and North Myrtle Beach. Each year on 
 the Saturday after Thanksgiving\,  the curtain rises on this spectacular ma
 ritime parade at the Little River Inlet at 5 p.m. and travels south\,  arri
 ving at Dock Holidays Marina[..]\nhttps://jaminleather.com/events-directory
 /intracoastal-christmas-regatta/
URL:https://jaminleather.com/events-directory/intracoastal-christmas-regatta/
END:VEVENT
END:VCALENDAR