BEGIN:VCALENDAR
VERSION:2.0
PRODID:-//eventon.com NONSGML v1.0//EN
CALSCALE:GREGORIAN
METHOD:PUBLISH
BEGIN:VEVENT
UID:69e61848e4bea
DTSTAMP:20260420T121256Z
DTSTART:20200314T100000Z
DTEND:20200314T160000Z
LOCATION:Surfside Dr Surfside Dr\,  Myrtle Beach SC
SUMMARY:Surfside Beach BBQ Festival
DESCRIPTION:The Surfside Beach BBQ Festival will be held March 14 from 10 a
 m &#8211; 4 pm at Surfside Drive in Surfside Beach. &nbsp; Post courtesy of
  MB Events.\nhttps://jaminleather.com/events-directory/surfside-beach-bbq-f
 estival/
URL:https://jaminleather.com/events-directory/surfside-beach-bbq-festival/
END:VEVENT
END:VCALENDAR