BEGIN:VCALENDAR
VERSION:2.0
PRODID:-//eventon.com NONSGML v1.0//EN
CALSCALE:GREGORIAN
METHOD:PUBLISH
BEGIN:VEVENT
UID:69e9019c1f420
DTSTAMP:20260422T171300Z
DTSTART:20190801T170700Z
DTEND:20190801T170700Z
LOCATION:Town of Surfside beach 115 Highway 17 N Surfside Beach\,  South Carolina 29575
SUMMARY:Surfside Beach Family Festival
DESCRIPTION:Join us for the Surfside Beach Family Festival on Surfside Driv
 e. There will be live music\,  craft vendors\,  food and fun! For vendor in
 formation\,  please contact Debbie Ellis at dellis@surfsidebeach.org or cal
 l 843-650-9548. Vendor applications will be accepted starting in August. Po
 st courtesy of MyrtleBeachRallies.com\nhttps://jaminleather.com/events-dire
 ctory/surfside-beach-family-festival/
URL:https://jaminleather.com/events-directory/surfside-beach-family-festival/
END:VEVENT
END:VCALENDAR