BEGIN:VCALENDAR
VERSION:2.0
PRODID:-//eventon.com NONSGML v1.0//EN
CALSCALE:GREGORIAN
METHOD:PUBLISH
BEGIN:VEVENT
UID:69e742990026e
DTSTAMP:20260421T092545Z
DTSTART:20191031
DTEND:20191101
LOCATION:Galveston\,  Texas Galveston\,  Texas
SUMMARY:Lone Star Rally
DESCRIPTION:Down in Texas\,  this four-day celebration offers bike games an
 d bike shows\,  rides\,  lots of live entertainment\,  bike builder competi
 tions and a car and truck show. There’s also a Miss Lone Star Rally conte
 st and hundreds of vendors. Post courtesy of MyrtleBeachRallies\nhttps://ja
 minleather.com/events-directory/lone-star-rally/
URL:https://jaminleather.com/events-directory/lone-star-rally/
END:VEVENT
END:VCALENDAR