BEGIN:VCALENDAR
VERSION:2.0
PRODID:-//eventon.com NONSGML v1.0//EN
CALSCALE:GREGORIAN
METHOD:PUBLISH
BEGIN:VEVENT
UID:69eca05c43cdd
DTSTAMP:20260425T110708Z
DTSTART:20200717T090000Z
DTEND:20200717T150000Z
LOCATION:Coastal Carolinas Association of REALTORS 951 Shine Ave. Myrtle Beach\,  SC  29577
SUMMARY:Red Cross Blood Drive
DESCRIPTION:BLOOD DRIVE When: Friday\,  July 17\,  2020 Time: 10:00am – 4
 :00pm Place: Coastal Carolinas Association of REALTORS® 951 Shine Ave. Myr
 tle Beach\,  SC 29577 Please call Max Neubauer at 304-288-1122 to schedule 
 your appointment or go to WWW.REDCROSSBLOOD.ORG Sponsor code: CCARSC RAPIDP
 ASS is a great way to help save lives[..]\nhttps://jaminleather.com/events-
 directory/red-cross-blood-drive/
URL:https://jaminleather.com/events-directory/red-cross-blood-drive/
END:VEVENT
END:VCALENDAR