BEGIN:VCALENDAR
VERSION:2.0
PRODID:-//eventon.com NONSGML v1.0//EN
CALSCALE:GREGORIAN
METHOD:PUBLISH
BEGIN:VEVENT
UID:69ebb9c0ce070
DTSTAMP:20260424T184312Z
DTSTART:20200718T100000Z
DTEND:20200718T170000Z
LOCATION:Bob Mills Mitsubishi Myrtle Beach 431 Hospitality Lane\,  Myrtle Beach\,  South Carolina 29579
SUMMARY:Bob's 1st Annual Dog eating Contest
DESCRIPTION:Bob&#8217;s at it again!! our annual hot dog eating contest wil
 l be held July 18th at 11. Join us for a chance to win $1000 and the title 
 of hot dog eating championship Myrtle Beach! please send a message with you
 r entry video or e-mail or to Chance@BobMillsMitsubishiMB.com Make it[..]\n
 https://jaminleather.com/events-directory/bobs-1st-annual-dog-eating-contes
 t/
URL:https://jaminleather.com/events-directory/bobs-1st-annual-dog-eating-contest/
END:VEVENT
END:VCALENDAR