BEGIN:VCALENDAR
VERSION:2.0
PRODID:-//eventon.com NONSGML v1.0//EN
CALSCALE:GREGORIAN
METHOD:PUBLISH
BEGIN:VEVENT
UID:69ec0713d53bd
DTSTAMP:20260425T001307Z
DTSTART:20230828
DTEND:20230829
LOCATION:Black Rock Desert of Nevada Black Rock Desert of Nevada
SUMMARY:Burning Man
DESCRIPTION:Burning Man 2022 will take place August 28 – September 5\,  i
 n the Black Rock Desert of Nevada. Participants join in the effort to co-cr
 eate Black Rock City\,  a temporary metropolis dedicated to art and communi
 ty. Post courtesy of MyrtleBeachRallies.com\nhttps://jaminleather.com/event
 s-directory/burning-man/var/ri-1.l-L1
URL:https://jaminleather.com/events-directory/burning-man/var/ri-1.l-L1
END:VEVENT
END:VCALENDAR