BEGIN:VCALENDAR
VERSION:2.0
PRODID:-//eventon.com NONSGML v1.0//EN
CALSCALE:GREGORIAN
METHOD:PUBLISH
BEGIN:VEVENT
UID:69e666b9ba6ab
DTSTAMP:20260420T174737Z
DTSTART:20200717T130000Z
DTEND:20200717T160000Z
LOCATION:Jamin Leather 1222 Port Dr\,  Myrtle Beach\,  SC
SUMMARY:It's A Cruise In! With Cecil Chandlers - BIKE WEEK AT JAMIN LEATHER
DESCRIPTION:Come view the classic cars of the Myrtle Beach Car Club! A fun 
 day of music\,  Prizes and giveaways\,  hosted by WPDE TV 15 News Personali
 ty Cecil Chandler and Jamin Leather!  Invite your friends\,  and we look f
 orward to seeing you there! This is a Friday afternoon event!;. 2pm &#8211;
 [..]\nhttps://jaminleather.com/events-directory/its-a-cruise-in-with-cecil-
 chandlers-bike-week-at-jamin-leather/
URL:https://jaminleather.com/events-directory/its-a-cruise-in-with-cecil-chandlers-bike-week-at-jamin-leather/
END:VEVENT
END:VCALENDAR